BEGIN:VCALENDAR
VERSION:2.0
PRODID:-//KID Limbar - ECPv4.7.2//NONSGML v1.0//EN
CALSCALE:GREGORIAN
METHOD:PUBLISH
X-WR-CALNAME:KID Limbar
X-ORIGINAL-URL:https://www.kidlimbar.si
X-WR-CALDESC:Events for KID Limbar
BEGIN:VEVENT
DTSTART;TZID=UTC+1:20180423T170000
DTEND;TZID=UTC+1:20180423T180000
DTSTAMP:20260424T205028
CREATED:20180421T212329Z
LAST-MODIFIED:20180421T212329Z
UID:3942-1524502800-1524506400@www.kidlimbar.si
SUMMARY:Pravljična ura
DESCRIPTION:
URL:https://www.kidlimbar.si/dogodek/pravljicna-ura
LOCATION:Knjižnica Moravče\, Vegova 7\, Moravče\, 1251\, Slovenija
CATEGORIES:Delavnica
ORGANIZER;CN="KID%20Limbar":MAILTO:kidlimbar@gmail.com
END:VEVENT
END:VCALENDAR