BEGIN:VCALENDAR
VERSION:2.0
PRODID:-//KID Limbar - ECPv4.7.2//NONSGML v1.0//EN
CALSCALE:GREGORIAN
METHOD:PUBLISH
X-WR-CALNAME:KID Limbar
X-ORIGINAL-URL:https://www.kidlimbar.si
X-WR-CALDESC:Events for KID Limbar
BEGIN:VEVENT
DTSTART;TZID=UTC+1:20180407T180000
DTEND;TZID=UTC+1:20180407T190000
DTSTAMP:20260425T001754
CREATED:20180406T140537Z
LAST-MODIFIED:20180406T140537Z
UID:3893-1523124000-1523127600@www.kidlimbar.si
SUMMARY:Pomladna harmonija
DESCRIPTION:
URL:https://www.kidlimbar.si/dogodek/pomladna-harmonija
LOCATION:Kulturni dom Groblje\, Groblje 1\, Domžale\, 1230\, Slovenia
CATEGORIES:Koncert
ORGANIZER;CN="KID%20Limbar":MAILTO:kidlimbar@gmail.com
END:VEVENT
END:VCALENDAR