BEGIN:VCALENDAR
VERSION:2.0
PRODID:-//KID Limbar - ECPv4.7.2//NONSGML v1.0//EN
CALSCALE:GREGORIAN
METHOD:PUBLISH
X-WR-CALNAME:KID Limbar
X-ORIGINAL-URL:https://www.kidlimbar.si
X-WR-CALDESC:Events for KID Limbar
BEGIN:VEVENT
DTSTART;TZID=UTC+1:20180307T190000
DTEND;TZID=UTC+1:20180307T200000
DTSTAMP:20260424T204843
CREATED:20180305T133519Z
LAST-MODIFIED:20180305T133519Z
UID:3860-1520449200-1520452800@www.kidlimbar.si
SUMMARY:Občni zbor KID Limbar
DESCRIPTION: \n
URL:https://www.kidlimbar.si/dogodek/obcni-zbor-kid-limbar-3
LOCATION:Župnišče\, župnija Moravče\, Trg svobode 14\, Moravče\, 1251
CATEGORIES:Občni zbor
ORGANIZER;CN="KID%20Limbar":MAILTO:kidlimbar@gmail.com
END:VEVENT
END:VCALENDAR