BEGIN:VCALENDAR
VERSION:2.0
PRODID:-//KID Limbar - ECPv4.7.2//NONSGML v1.0//EN
CALSCALE:GREGORIAN
METHOD:PUBLISH
X-WR-CALNAME:KID Limbar
X-ORIGINAL-URL:https://www.kidlimbar.si
X-WR-CALDESC:Events for KID Limbar
BEGIN:VEVENT
DTSTART;TZID=UTC+1:20180208T180000
DTEND;TZID=UTC+1:20180208T190000
DTSTAMP:20260424T210914
CREATED:20180206T203444Z
LAST-MODIFIED:20180206T203444Z
UID:3843-1518112800-1518116400@www.kidlimbar.si
SUMMARY:Maša za moravške kulturne delavce
DESCRIPTION:Že tradicionalno se prav na dan slovenskega kulturnega praznika pri sveti maši v moravški župnijski cerkvi spomnimo vseh živih in pokojnih kulturnih delavcev\, ki so delovali na Moravškem.  \nTudi letos bo sveta maša ob 18h v župnijski cerkvi sv. Martina. S petjem bo bogoslužje obogatil Komorni zbor Limbar\, med sv. mašo pa bo tudi krajši kulturni program. \n
URL:https://www.kidlimbar.si/dogodek/masa-za-moravske-kulturne-delavce
LOCATION:Župnijska cerkev sv. Martina\, Moravče\, Trg svobode 14\, Moravče\, 1251\, Slovenia
CATEGORIES:Petje pri sv. maši
ORGANIZER;CN="%C5%BDupnija%20Morav%C4%8De":MAILTO:zupnija.moravce@rkc.si
END:VEVENT
END:VCALENDAR