BEGIN:VCALENDAR
VERSION:2.0
PRODID:-//KID Limbar - ECPv4.7.2//NONSGML v1.0//EN
CALSCALE:GREGORIAN
METHOD:PUBLISH
X-WR-CALNAME:KID Limbar
X-ORIGINAL-URL:https://www.kidlimbar.si
X-WR-CALDESC:Events for KID Limbar
BEGIN:VEVENT
DTSTART;TZID=UTC+1:20180608T203000
DTEND;TZID=UTC+1:20180608T220000
DTSTAMP:20260424T223056
CREATED:20180531T062303Z
LAST-MODIFIED:20180531T062303Z
UID:3949-1528489800-1528495200@www.kidlimbar.si
SUMMARY:Grajski vrtnar - premiera
DESCRIPTION: \n
URL:https://www.kidlimbar.si/dogodek/grajski-vrtnar-premiera
LOCATION:Grad Tuštanj\, Zgornji Tuštanj 1\, Moravče\, 1251\, Slovenija
CATEGORIES:Igra
ORGANIZER;CN="KID%20Limbar":MAILTO:kidlimbar@gmail.com
END:VEVENT
END:VCALENDAR