BEGIN:VCALENDAR
VERSION:2.0
PRODID:-//KID Limbar - ECPv4.7.2//NONSGML v1.0//EN
CALSCALE:GREGORIAN
METHOD:PUBLISH
X-WR-CALNAME:KID Limbar
X-ORIGINAL-URL:https://www.kidlimbar.si
X-WR-CALDESC:Events for KID Limbar
BEGIN:VEVENT
DTSTART;TZID=UTC+1:20190404T170000
DTEND;TZID=UTC+1:20190404T183000
DTSTAMP:20260425T140559
CREATED:20190402T052941Z
LAST-MODIFIED:20190402T052941Z
UID:4052-1554397200-1554402600@www.kidlimbar.si
SUMMARY:Barve\, škarje\, papir - otroška ustvarjalna delavnica
DESCRIPTION: \n
URL:https://www.kidlimbar.si/dogodek/barve-skarje-papir-otroska-ustvarjalna-delavnica
LOCATION:Knjižnica Moravče\, Vegova 7\, Moravče\, 1251\, Slovenija
CATEGORIES:Delavnica
ORGANIZER;CN="KID%20Limbar":MAILTO:kidlimbar@gmail.com
END:VEVENT
END:VCALENDAR