BEGIN:VCALENDAR
VERSION:2.0
PRODID:-//KID Limbar - ECPv4.7.2//NONSGML v1.0//EN
CALSCALE:GREGORIAN
METHOD:PUBLISH
X-WR-CALNAME:KID Limbar
X-ORIGINAL-URL:http://www.kidlimbar.si
X-WR-CALDESC:Events for KID Limbar
BEGIN:VEVENT
DTSTART;TZID=UTC+1:20160402T200000
DTEND;TZID=UTC+1:20160402T210000
DTSTAMP:20260420T075454
CREATED:20160331T192046Z
LAST-MODIFIED:20160331T192109Z
UID:2794-1459627200-1459630800@www.kidlimbar.si
SUMMARY:Žalujoči ostali v Dolu pri Ljubljani (zadnja predstava)
DESCRIPTION: \n
URL:http://www.kidlimbar.si/dogodek/zalujoci-ostali-v-dolu-pri-ljubljani-zadnja-predstava
LOCATION:Župnijska dvorana župnije Dol pri Ljubljani\, Dol 1F\, Dol pri Ljubljani\, 1262\, Slovenija
CATEGORIES:Igra
END:VEVENT
END:VCALENDAR