BEGIN:VCALENDAR
VERSION:2.0
PRODID:-//KID Limbar - ECPv4.7.2//NONSGML v1.0//EN
CALSCALE:GREGORIAN
METHOD:PUBLISH
X-WR-CALNAME:KID Limbar
X-ORIGINAL-URL:http://www.kidlimbar.si
X-WR-CALDESC:Events for KID Limbar
BEGIN:VEVENT
DTSTART;TZID=UTC+1:20160527T200000
DTEND;TZID=UTC+1:20160527T220000
DTSTAMP:20260420T172152
CREATED:20160516T212834Z
LAST-MODIFIED:20160516T213421Z
UID:2937-1464379200-1464386400@www.kidlimbar.si
SUMMARY:Večer ljudskih plesov in pesmi
DESCRIPTION: \n
URL:http://www.kidlimbar.si/dogodek/vecer-ljudskih-plesov-in-pesmi
LOCATION:Grad Tuštanj\, Zgornji Tuštanj 1\, Moravče\, 1251\, Slovenija
CATEGORIES:Koncert
ORGANIZER;CN="KID%20Limbar":MAILTO:kidlimbar@gmail.com
END:VEVENT
END:VCALENDAR