BEGIN:VCALENDAR
VERSION:2.0
PRODID:-//KID Limbar - ECPv4.7.2//NONSGML v1.0//EN
CALSCALE:GREGORIAN
METHOD:PUBLISH
X-WR-CALNAME:KID Limbar
X-ORIGINAL-URL:http://www.kidlimbar.si
X-WR-CALDESC:Events for KID Limbar
BEGIN:VEVENT
DTSTART;TZID=UTC+1:20170208T180000
DTEND;TZID=UTC+1:20170208T190000
DTSTAMP:20260423T154718
CREATED:20170127T195508Z
LAST-MODIFIED:20170127T195508Z
UID:3345-1486576800-1486580400@www.kidlimbar.si
SUMMARY:Sveta maša za moravške kulturne delavce
DESCRIPTION:
URL:http://www.kidlimbar.si/dogodek/sveta-masa-za-moravske-kulturne-delavce
LOCATION:Župnijska cerkev sv. Martina\, Moravče\, Trg svobode 14\, Moravče\, 1251\, Slovenia
CATEGORIES:Akademija,Petje pri sv. maši
ORGANIZER;CN="%C5%BDupnija%20Morav%C4%8De":MAILTO:zupnija.moravce@rkc.si
END:VEVENT
END:VCALENDAR