BEGIN:VCALENDAR
VERSION:2.0
PRODID:-//KID Limbar - ECPv4.7.2//NONSGML v1.0//EN
CALSCALE:GREGORIAN
METHOD:PUBLISH
X-WR-CALNAME:KID Limbar
X-ORIGINAL-URL:http://www.kidlimbar.si
X-WR-CALDESC:Events for KID Limbar
BEGIN:VEVENT
DTSTART;TZID=UTC+1:20150207T180000
DTEND;TZID=UTC+1:20150207T190000
DTSTAMP:20260419T223352
CREATED:20150204T101845Z
LAST-MODIFIED:20150204T101845Z
UID:1493-1423332000-1423335600@www.kidlimbar.si
SUMMARY:Sveta maša in akademija ob slovenskem kulturnem prazniku
DESCRIPTION:KID Limbar v sodelovanju z Župnijo Moravče pripravlja akademijo ob slovenskem kulturnem prazniku. Sveta maša bo v soboto\, 7. 2. 2015\, ob 18.00 v župnijski cerkvi svetega Martina v Moravčah. Pri sveti maši se bomo med drugim spomnili vseh pokojnih moravških kulturnih delavcev.\nLepo vabljeni!\n
URL:http://www.kidlimbar.si/dogodek/sveta-masa-in-akademija-ob-slovenskem-kulturnem-prazniku
LOCATION:Župnijska cerkev sv. Martina\, Moravče\, Trg svobode 14\, Moravče\, 1251\, Slovenia
CATEGORIES:Petje pri sv. maši,Sodelovanje na prireditvi
END:VEVENT
END:VCALENDAR