BEGIN:VCALENDAR
VERSION:2.0
PRODID:-//KID Limbar - ECPv4.7.2//NONSGML v1.0//EN
CALSCALE:GREGORIAN
METHOD:PUBLISH
X-WR-CALNAME:KID Limbar
X-ORIGINAL-URL:http://www.kidlimbar.si
X-WR-CALDESC:Events for KID Limbar
BEGIN:VEVENT
DTSTART;TZID=UTC+1:20150605T200000
DTEND;TZID=UTC+1:20150607T200000
DTSTAMP:20260420T041649
CREATED:20150603T212312Z
LAST-MODIFIED:20150603T212322Z
UID:2199-1433534400-1433707200@www.kidlimbar.si
SUMMARY:Razstava "Umetniki za Karitas"
DESCRIPTION:
URL:http://www.kidlimbar.si/dogodek/razstava-umetniki-za-karitas
LOCATION:Kulturni dom Moravče\, Vegova ulica 9\, Moravče\, 1251\, Slovenija
CATEGORIES:Razstava
ORGANIZER;CN="KID%20Limbar":MAILTO:kidlimbar@gmail.com
END:VEVENT
END:VCALENDAR