BEGIN:VCALENDAR
VERSION:2.0
PRODID:-//KID Limbar - ECPv4.7.2//NONSGML v1.0//EN
CALSCALE:GREGORIAN
METHOD:PUBLISH
X-WR-CALNAME:KID Limbar
X-ORIGINAL-URL:http://www.kidlimbar.si
X-WR-CALDESC:Events for KID Limbar
BEGIN:VEVENT
DTSTART;TZID=UTC+1:20150307T190000
DTEND;TZID=UTC+1:20150307T203000
DTSTAMP:20260419T190019
CREATED:20150302T125154Z
LAST-MODIFIED:20150302T125154Z
UID:2054-1425754800-1425760200@www.kidlimbar.si
SUMMARY:Poslednji mož v Moravčah
DESCRIPTION:Vabljeni na\ngledališko predstavo\, veseloigro\nPOSLEDNJI MOŽ\n(avtor: F. X. Svoboda)\nv izvedbi odrasle dramske skupine KID Limbar\nV glavnih vlogah: A. Štefan\, T. Uršič\, D. Lavrič\, J. Lavrič\, V. Capuder\,\nA. Fale\, M. Štefan\, F. Capuder\, K. Učakar\, K. Štefan\nZadnja predstava bo v soboto\, 7. marca ob 19h v Kulturnem domu Moravče.\nTo bo kolosalno!\n
URL:http://www.kidlimbar.si/dogodek/poslednji-moz-v-moravcah
LOCATION:Kulturni dom Moravče\, Vegova ulica 9\, Moravče\, 1251\, Slovenia
CATEGORIES:Igra
ORGANIZER;CN="KID%20Limbar":MAILTO:kidlimbar@gmail.com
END:VEVENT
END:VCALENDAR