BEGIN:VCALENDAR
VERSION:2.0
PRODID:-//KID Limbar - ECPv4.7.2//NONSGML v1.0//EN
CALSCALE:GREGORIAN
METHOD:PUBLISH
X-WR-CALNAME:KID Limbar
X-ORIGINAL-URL:http://www.kidlimbar.si
X-WR-CALDESC:Events for KID Limbar
BEGIN:VEVENT
DTSTART;TZID=UTC+1:20150214T190000
DTEND;TZID=UTC+1:20150214T200000
DTSTAMP:20260419T171050
CREATED:20150204T095455Z
LAST-MODIFIED:20150204T095545Z
UID:1483-1423940400-1423944000@www.kidlimbar.si
SUMMARY:Poslednji mož v Mlinšah
DESCRIPTION:Vabljeni na\ngledališko predstavo\, veseloigro\nPOSLEDNJI MOŽ\n(avtor: F. X. Svoboda)\nv izvedbi odrasle dramske skupine KID Limbar\nV glavnih vlogah: A. Štefan\, T. Uršič\, D. Lavrič\, J. Lavrič\, V. Capuder\,\nA. Fale\, M. Štefan\, F. Capuder\, K. Učakar\, K. Štefan\nPredstava bo v soboto\, 14. februarja ob 19h v Kulturnem domu Mlinše.\nTo bo kolosalno!\n
URL:http://www.kidlimbar.si/dogodek/poslednji-moz-v-mlinsah
LOCATION:Kulturni dom Mlinše\, Mlinše 12\, Izlake\, 1411\, Slovenija
CATEGORIES:Igra
ORGANIZER;CN="KID%20Limbar":MAILTO:kidlimbar@gmail.com
END:VEVENT
END:VCALENDAR