BEGIN:VCALENDAR
VERSION:2.0
PRODID:-//KID Limbar - ECPv4.7.2//NONSGML v1.0//EN
CALSCALE:GREGORIAN
METHOD:PUBLISH
X-WR-CALNAME:KID Limbar
X-ORIGINAL-URL:http://www.kidlimbar.si
X-WR-CALDESC:Events for KID Limbar
BEGIN:VEVENT
DTSTART;TZID=UTC+1:20160524T170000
DTEND;TZID=UTC+1:20160524T170000
DTSTAMP:20260420T171654
CREATED:20160523T144323Z
LAST-MODIFIED:20160523T144323Z
UID:2948-1464109200-1464109200@www.kidlimbar.si
SUMMARY:Pomladna ustvarjalna delavnica za otroke
DESCRIPTION: \n
URL:http://www.kidlimbar.si/dogodek/pomladna-ustvarjalna-delavnica-za-otroke
LOCATION:Knjižnica Moravče\, Vegova 7\, Moravče\, 1251\, Slovenija
CATEGORIES:Delavnica
END:VEVENT
END:VCALENDAR