BEGIN:VCALENDAR
VERSION:2.0
PRODID:-//KID Limbar - ECPv4.7.2//NONSGML v1.0//EN
CALSCALE:GREGORIAN
METHOD:PUBLISH
X-WR-CALNAME:KID Limbar
X-ORIGINAL-URL:http://www.kidlimbar.si
X-WR-CALDESC:Events for KID Limbar
BEGIN:VEVENT
DTSTART;TZID=UTC+1:20160517T190000
DTEND;TZID=UTC+1:20160517T210000
DTSTAMP:20260422T135633
CREATED:20160516T212601Z
LAST-MODIFIED:20160516T212857Z
UID:2936-1463511600-1463518800@www.kidlimbar.si
SUMMARY:Pomladna ustvarjalna delavnica za odrasle
DESCRIPTION: \n
URL:http://www.kidlimbar.si/dogodek/pomladna-ustvarjalna-delavnica-za-odrasle
LOCATION:Knjižnica Moravče\, Vegova 7\, Moravče\, 1251\, Slovenija
CATEGORIES:Delavnica
END:VEVENT
END:VCALENDAR