BEGIN:VCALENDAR
VERSION:2.0
PRODID:-//KID Limbar - ECPv4.7.2//NONSGML v1.0//EN
CALSCALE:GREGORIAN
METHOD:PUBLISH
X-WR-CALNAME:KID Limbar
X-ORIGINAL-URL:http://www.kidlimbar.si
X-WR-CALDESC:Events for KID Limbar
BEGIN:VEVENT
DTSTART;TZID=UTC+1:20171024T193000
DTEND;TZID=UTC+1:20171024T220000
DTSTAMP:20260424T044324
CREATED:20171019T110421Z
LAST-MODIFIED:20171019T110421Z
UID:3432-1508873400-1508882400@www.kidlimbar.si
SUMMARY:Pevska delavnica s prof. Tatjano Vasle
DESCRIPTION: \n
URL:http://www.kidlimbar.si/dogodek/pevska-delavnica-s-prof-tatjano-vasle
LOCATION:Sejna soba Občine Moravče\, Vegova ulica 7\, Moravče\, 1251\, Slovenija
CATEGORIES:Delavnica
ORGANIZER;CN="KID%20Limbar":MAILTO:kidlimbar@gmail.com
END:VEVENT
END:VCALENDAR