BEGIN:VCALENDAR
VERSION:2.0
PRODID:-//KID Limbar - ECPv4.7.2//NONSGML v1.0//EN
CALSCALE:GREGORIAN
METHOD:PUBLISH
X-WR-CALNAME:KID Limbar
X-ORIGINAL-URL:http://www.kidlimbar.si
X-WR-CALDESC:Events for KID Limbar
BEGIN:VEVENT
DTSTART;TZID=UTC+1:20160409T200000
DTEND;TZID=UTC+1:20160409T210000
DTSTAMP:20260420T093647
CREATED:20160331T194707Z
LAST-MODIFIED:20160331T194758Z
UID:2797-1460232000-1460235600@www.kidlimbar.si
SUMMARY:Naša pesem pred Našo pesmijo - koncert v Cerkljah
DESCRIPTION: \n
URL:http://www.kidlimbar.si/dogodek/nasa-pesem-pred-naso-pesmijo-koncert-v-cerkljah
CATEGORIES:Koncert
END:VEVENT
END:VCALENDAR