BEGIN:VCALENDAR
VERSION:2.0
PRODID:-//KID Limbar - ECPv4.7.2//NONSGML v1.0//EN
CALSCALE:GREGORIAN
METHOD:PUBLISH
X-WR-CALNAME:KID Limbar
X-ORIGINAL-URL:http://www.kidlimbar.si
X-WR-CALDESC:Events for KID Limbar
BEGIN:VEVENT
DTSTART;TZID=UTC+1:20161126T190000
DTEND;TZID=UTC+1:20161126T210000
DTSTAMP:20260422T160056
CREATED:20161114T112045Z
LAST-MODIFIED:20161126T141209Z
UID:3117-1480186800-1480194000@www.kidlimbar.si
SUMMARY:Ledeno kraljestvo - premiera
DESCRIPTION: \n
URL:http://www.kidlimbar.si/dogodek/ledeno-kraljestvo-premiera
LOCATION:Kulturni dom Moravče\, Vegova ulica 9\, Moravče\, 1251\, Slovenija
CATEGORIES:Igra
ORGANIZER;CN="KID%20Limbar":MAILTO:kidlimbar@gmail.com
END:VEVENT
END:VCALENDAR