BEGIN:VCALENDAR
VERSION:2.0
PRODID:-//KID Limbar - ECPv4.7.2//NONSGML v1.0//EN
CALSCALE:GREGORIAN
METHOD:PUBLISH
X-WR-CALNAME:KID Limbar
X-ORIGINAL-URL:http://www.kidlimbar.si
X-WR-CALDESC:Events for KID Limbar
BEGIN:VEVENT
DTSTART;TZID=UTC+1:20161211T160000
DTEND;TZID=UTC+1:20161211T170000
DTSTAMP:20260423T000752
CREATED:20161202T180146Z
LAST-MODIFIED:20161202T180146Z
UID:3162-1481472000-1481475600@www.kidlimbar.si
SUMMARY:Ledeno kraljestvo (Moravče)
DESCRIPTION: \n
URL:http://www.kidlimbar.si/dogodek/ledeno-kraljestvo-moravce
LOCATION:Kulturni dom Moravče\, Vegova ulica 9\, Moravče\, 1251\, Slovenia
CATEGORIES:Igra
ORGANIZER;CN="KID%20Limbar":MAILTO:kidlimbar@gmail.com
END:VEVENT
END:VCALENDAR