BEGIN:VCALENDAR
VERSION:2.0
PRODID:-//KID Limbar - ECPv4.7.2//NONSGML v1.0//EN
CALSCALE:GREGORIAN
METHOD:PUBLISH
X-WR-CALNAME:KID Limbar
X-ORIGINAL-URL:http://www.kidlimbar.si
X-WR-CALDESC:Events for KID Limbar
BEGIN:VEVENT
DTSTART;TZID=UTC+1:20170115T160000
DTEND;TZID=UTC+1:20170115T170000
DTSTAMP:20260423T055746
CREATED:20170102T121033Z
LAST-MODIFIED:20170102T121033Z
UID:3308-1484496000-1484499600@www.kidlimbar.si
SUMMARY:Ledeno kraljestvo (Moravče)
DESCRIPTION: \n
URL:http://www.kidlimbar.si/dogodek/ledeno-kraljestvo-moravce-3
LOCATION:Kulturni dom Moravče\, Vegova ulica 9\, Moravče\, 1251\, Slovenija
CATEGORIES:Igra
ORGANIZER;CN="KID%20Limbar":MAILTO:kidlimbar@gmail.com
END:VEVENT
END:VCALENDAR