BEGIN:VCALENDAR
VERSION:2.0
PRODID:-//KID Limbar - ECPv4.7.2//NONSGML v1.0//EN
CALSCALE:GREGORIAN
METHOD:PUBLISH
X-WR-CALNAME:KID Limbar
X-ORIGINAL-URL:http://www.kidlimbar.si
X-WR-CALDESC:Events for KID Limbar
BEGIN:VEVENT
DTSTART;TZID=UTC+1:20170119T080000
DTEND;TZID=UTC+1:20170119T170000
DTSTAMP:20260423T100304
CREATED:20170119T175609Z
LAST-MODIFIED:20170119T175609Z
UID:3323-1484812800-1484845200@www.kidlimbar.si
SUMMARY:Ledeno kraljestvo (Dolsko)
DESCRIPTION: \n
URL:http://www.kidlimbar.si/dogodek/ledeno-kraljestvo-dolsko-2
LOCATION:Kulturni dom Dolsko\, Dolsko 55\, Dol pri Ljubljani\, 1262
CATEGORIES:Igra
ORGANIZER;CN="Ob%C4%8Dina%20Dol%20pri%20Ljubljani":MAILTO:obcina@dol.si
END:VEVENT
END:VCALENDAR