BEGIN:VCALENDAR
VERSION:2.0
PRODID:-//KID Limbar - ECPv4.7.2//NONSGML v1.0//EN
CALSCALE:GREGORIAN
METHOD:PUBLISH
X-WR-CALNAME:KID Limbar
X-ORIGINAL-URL:http://www.kidlimbar.si
X-WR-CALDESC:Events for KID Limbar
BEGIN:VEVENT
DTSTART;TZID=UTC+1:20150206T183000
DTEND;TZID=UTC+1:20150206T200000
DTSTAMP:20260419T190822
CREATED:20150204T101413Z
LAST-MODIFIED:20150204T101413Z
UID:1492-1423247400-1423252800@www.kidlimbar.si
SUMMARY:Komorni zbor Limbar na občinski proslavi ob slovenskem kulturnem dnevu
DESCRIPTION:Komorni zbor Limbar bo s petjem sodeloval na občinski prireditvi ob slovenskem kulturnem prazniku\, ki bo v petek\, 6. 2. 2015 ob 18.30 v Kulturnem domu Moravče.\nLepo vabljeni!\n
URL:http://www.kidlimbar.si/dogodek/komorni-zbor-limbar-na-obcinski-proslavi-ob-slovenskem-kulturnem-dnevu
LOCATION:Kulturni dom Moravče\, Vegova ulica 9\, Moravče\, 1251\, Slovenija
CATEGORIES:Sodelovanje na prireditvi
ORGANIZER;CN="Ob%C4%8Dina%20Morav%C4%8De":MAILTO:obcina@moravce.si
END:VEVENT
END:VCALENDAR