BEGIN:VCALENDAR
VERSION:2.0
PRODID:-//KID Limbar - ECPv4.7.2//NONSGML v1.0//EN
CALSCALE:GREGORIAN
METHOD:PUBLISH
X-WR-CALNAME:KID Limbar
X-ORIGINAL-URL:http://www.kidlimbar.si
X-WR-CALDESC:Events for KID Limbar
BEGIN:VEVENT
DTSTART;TZID=UTC+1:20160508T160000
DTEND;TZID=UTC+1:20160508T170000
DTSTAMP:20260420T133606
CREATED:20160516T212411Z
LAST-MODIFIED:20160516T212411Z
UID:2934-1462723200-1462726800@www.kidlimbar.si
SUMMARY:Haydn na Limbarski gori
DESCRIPTION: \n
URL:http://www.kidlimbar.si/dogodek/haydn-na-limbarski-gori
LOCATION:Cerkev sv. Valentina na Limbarski gori\, Moravče\, 1251\, Slovenija
CATEGORIES:Petje pri sv. maši
ORGANIZER;CN="KID%20Limbar":MAILTO:kidlimbar@gmail.com
END:VEVENT
END:VCALENDAR