BEGIN:VCALENDAR
VERSION:2.0
PRODID:-//KID Limbar - ECPv4.7.2//NONSGML v1.0//EN
CALSCALE:GREGORIAN
METHOD:PUBLISH
X-WR-CALNAME:KID Limbar
X-ORIGINAL-URL:http://www.kidlimbar.si
X-WR-CALDESC:Events for KID Limbar
BEGIN:VEVENT
DTSTART;TZID=UTC+1:20161219T170000
DTEND;TZID=UTC+1:20161219T180000
DTSTAMP:20260423T055745
CREATED:20161217T152700Z
LAST-MODIFIED:20161217T152700Z
UID:3291-1482166800-1482170400@www.kidlimbar.si
SUMMARY:Družina ustvarja: izdelajmo igračo z Jano Kuharič
DESCRIPTION: \n
URL:http://www.kidlimbar.si/dogodek/druzina-ustvarja-izdelajmo-igraco-z-jano-kuharic
LOCATION:Knjižnica Moravče\, Vegova 7\, Moravče\, 1251\, Slovenija
CATEGORIES:Delavnica
END:VEVENT
END:VCALENDAR