BEGIN:VCALENDAR
VERSION:2.0
PRODID:-//KID Limbar - ECPv4.7.2//NONSGML v1.0//EN
CALSCALE:GREGORIAN
METHOD:PUBLISH
X-WR-CALNAME:KID Limbar
X-ORIGINAL-URL:http://www.kidlimbar.si
X-WR-CALDESC:Events for KID Limbar
BEGIN:VEVENT
DTSTART;TZID=UTC+1:20150122T170000
DTEND;TZID=UTC+1:20150122T183000
DTSTAMP:20260419T171652
CREATED:20150114T233009Z
LAST-MODIFIED:20150114T233009Z
UID:1378-1421946000-1421951400@www.kidlimbar.si
SUMMARY:Delavnica "Roka ustvarja - Decoupage" za otroke
DESCRIPTION:            \n		\n			    	\n            \n    	\n		      \n         \n
URL:http://www.kidlimbar.si/dogodek/delavnica-roka-ustvarja-decoupage-za-otroke
LOCATION:Knjižnica Moravče\, Vegova 7\, Moravče\, 1251\, Slovenija
CATEGORIES:Delavnica
END:VEVENT
END:VCALENDAR