BEGIN:VCALENDAR
VERSION:2.0
PRODID:-//KID Limbar - ECPv4.7.2//NONSGML v1.0//EN
CALSCALE:GREGORIAN
METHOD:PUBLISH
X-WR-CALNAME:KID Limbar
X-ORIGINAL-URL:http://www.kidlimbar.si
X-WR-CALDESC:Events for KID Limbar
BEGIN:VEVENT
DTSTART;TZID=UTC+1:20170315T170000
DTEND;TZID=UTC+1:20170315T180000
DTSTAMP:20260423T191833
CREATED:20170305T194625Z
LAST-MODIFIED:20170305T194625Z
UID:3384-1489597200-1489600800@www.kidlimbar.si
SUMMARY:Avstralija (potopisno predavanje za otroke)
DESCRIPTION: \n
URL:http://www.kidlimbar.si/dogodek/avstralija-potopisno-predavanje-za-otroke
LOCATION:Knjižnica Moravče\, Vegova 7\, Moravče\, 1251\, Slovenija
CATEGORIES:Predavanje
ORGANIZER;CN="KID%20Limbar":MAILTO:kidlimbar@gmail.com
END:VEVENT
END:VCALENDAR