BEGIN:VCALENDAR
VERSION:2.0
PRODID:-//KID Limbar - ECPv4.7.2//NONSGML v1.0//EN
CALSCALE:GREGORIAN
METHOD:PUBLISH
X-WR-CALNAME:KID Limbar
X-ORIGINAL-URL:http://www.kidlimbar.si
X-WR-CALDESC:Events for KID Limbar
BEGIN:VEVENT
DTSTART;TZID=UTC+1:20160924T200000
DTEND;TZID=UTC+1:20160924T220000
DTSTAMP:20260420T192727
CREATED:20160919T101726Z
LAST-MODIFIED:20160919T103045Z
UID:3064-1474747200-1474754400@www.kidlimbar.si
SUMMARY:20 let za kulturo srca - akademija ob 20-letnici KID Limbar
DESCRIPTION: \n
URL:http://www.kidlimbar.si/dogodek/20-let-za-kulturo-srca-akademija-ob-20-letnici-kid-limbar
LOCATION:Kulturni dom Moravče\, Vegova ulica 9\, Moravče\, 1251\, Slovenija
CATEGORIES:Akademija,Razstava
ORGANIZER;CN="KID%20Limbar":MAILTO:kidlimbar@gmail.com
END:VEVENT
END:VCALENDAR