BEGIN:VCALENDAR
VERSION:2.0
PRODID:-//KID Limbar - ECPv4.7.2//NONSGML v1.0//EN
CALSCALE:GREGORIAN
METHOD:PUBLISH
X-WR-CALNAME:KID Limbar
X-ORIGINAL-URL:http://www.kidlimbar.si
X-WR-CALDESC:Events for KID Limbar
BEGIN:VEVENT
DTSTART;TZID=UTC+1:20141226T160000
DTEND;TZID=UTC+1:20141226T170000
DTSTAMP:20260419T190301
CREATED:20141216T155619Z
LAST-MODIFIED:20141216T155619Z
UID:1303-1419609600-1419613200@www.kidlimbar.si
SUMMARY:19. tradicionalni koncert Komornega zbora Limbar
DESCRIPTION:            \n		\n			    	\n            \n    	\n		      \n        \n
URL:http://www.kidlimbar.si/dogodek/19-tradicionalni-koncert-komornega-zbora-limbar
LOCATION:Cerkev svetega Andreja\, Sveti Andrej\, Moravče\, 1251\, Slovenija
CATEGORIES:Koncert
ORGANIZER;CN="KID%20Limbar":MAILTO:kidlimbar@gmail.com
END:VEVENT
END:VCALENDAR